View In:
ArcGIS JavaScript
ArcGIS Online Map Viewer
ArcGIS Earth
ArcMap
View Footprint In:
ArcGIS Online Map Viewer
Service Description: Oilsearch/Markham_Aerial_Photography
Name: Oilsearch/Markham_Aerial_Photography
Description:
Single Fused Map Cache: false
Extent:
XMin: 452645.8
YMin: 9267287.399999999
XMax: 468036.39999999997
YMax: 9279909.2
Spatial Reference: 32755
(32755)
Initial Extent:
XMin: 452645.8
YMin: 9267287.399999999
XMax: 468036.39999999997
YMax: 9279909.2
Spatial Reference: 32755
(32755)
Full Extent:
XMin: 452645.8
YMin: 9267287.399999999
XMax: 468036.39999999997
YMax: 9279909.2
Spatial Reference: 32755
(32755)
Pixel Size X: 0.1999999999999997
Pixel Size Y: 0.2000000000000118
Band Count: 3
Pixel Type: U16
RasterFunction Infos: {"rasterFunctionInfos": [{
"name": "None",
"description": "",
"help": ""
}]}
Mensuration Capabilities: Basic
Has Histograms: true
Has Colormap: false
Has Multi Dimensions : false
Rendering Rule:
Min Scale: 0
Max Scale: 0
Copyright Text:
Service Data Type: esriImageServiceDataTypeGeneric
Min Values: 0, 0, 0
Max Values: 255, 255, 255
Mean Values: 159.41475633794, 165.87709349031, 148.58048942574
Standard Deviation Values: 76.821905022328, 69.749115095974, 81.653458472713
Object ID Field:
Fields:
None
Default Mosaic Method: Center
Allowed Mosaic Methods:
SortField:
SortValue: null
Mosaic Operator: First
Default Compression Quality: 75
Default Resampling Method: Bilinear
Max Record Count: null
Max Image Height: 4100
Max Image Width: 15000
Max Download Image Count: null
Max Mosaic Image Count: null
Allow Raster Function: true
Allow Copy: null
Allow Analysis: null
Allow Compute TiePoints: false
Supports Statistics: false
Supports Advanced Queries: false
Use StandardizedQueries: true
Raster Type Infos:
Name: Raster Dataset
Description: Supports all ArcGIS Raster Datasets
Help:
Has Raster Attribute Table: false
Edit Fields Info: null
Ownership Based AccessControl For Rasters: null
Child Resources:
Info
Histograms
Key Properties
Legend
Raster Function Infos
Supported Operations:
Export Image
Identify
Measure
Compute Histograms
Compute Statistics Histograms
Get Samples
Compute Class Statistics
Query Boundary
Compute Pixel Location
Compute Angles
Validate
Project